BEGIN:VCALENDAR
VERSION:2.0
PRODID:-//Songmakers - ECPv6.15.20//NONSGML v1.0//EN
CALSCALE:GREGORIAN
METHOD:PUBLISH
X-WR-CALNAME:Songmakers
X-ORIGINAL-URL:https://songmakers.org
X-WR-CALDESC:Events for Songmakers
REFRESH-INTERVAL;VALUE=DURATION:PT1H
X-Robots-Tag:noindex
X-PUBLISHED-TTL:PT1H
BEGIN:VTIMEZONE
TZID:America/Los_Angeles
BEGIN:DAYLIGHT
TZOFFSETFROM:-0800
TZOFFSETTO:-0700
TZNAME:PDT
DTSTART:20240310T100000
END:DAYLIGHT
BEGIN:STANDARD
TZOFFSETFROM:-0700
TZOFFSETTO:-0800
TZNAME:PST
DTSTART:20241103T090000
END:STANDARD
BEGIN:DAYLIGHT
TZOFFSETFROM:-0800
TZOFFSETTO:-0700
TZNAME:PDT
DTSTART:20250309T100000
END:DAYLIGHT
BEGIN:STANDARD
TZOFFSETFROM:-0700
TZOFFSETTO:-0800
TZNAME:PST
DTSTART:20251102T090000
END:STANDARD
BEGIN:DAYLIGHT
TZOFFSETFROM:-0800
TZOFFSETTO:-0700
TZNAME:PDT
DTSTART:20260308T100000
END:DAYLIGHT
BEGIN:STANDARD
TZOFFSETFROM:-0700
TZOFFSETTO:-0800
TZNAME:PST
DTSTART:20261101T090000
END:STANDARD
END:VTIMEZONE
BEGIN:VEVENT
DTSTART;TZID=America/Los_Angeles:20251207T130000
DTEND;TZID=America/Los_Angeles:20251207T153000
DTSTAMP:20260420T072358
CREATED:20250530T181541Z
LAST-MODIFIED:20251209T181056Z
UID:8311-1765112400-1765121400@songmakers.org
SUMMARY:Pitts Ranch Park Song Circle
DESCRIPTION:SMPOC Steve Linsky invites Songmakers\, Old Time Fiddlers & friends to come jam at Pitts Ranch Park\, 1400 Flynn Rd.\, Camarillo\, 93012. Led by Steve Linsky. Free admission.  Bathrooms and shade available. Come bring your instruments\, a chair and your voices and let’s make some music! 
URL:https://songmakers.org/event/pitts-ranch-park-song-circle-2/
LOCATION:Pitts Ranch Park\, 1400 Flynn Rd\, Camarillo\, CA\, 93012\, United States
CATEGORIES:Live Song Circle
END:VEVENT
BEGIN:VEVENT
DTSTART;TZID=America/Los_Angeles:20251214T130000
DTEND;TZID=America/Los_Angeles:20251214T153000
DTSTAMP:20260420T072358
CREATED:20250530T181453Z
LAST-MODIFIED:20251209T181142Z
UID:8309-1765717200-1765726200@songmakers.org
SUMMARY:Pitts Ranch Song Circle
DESCRIPTION:SMPOC Steve Linsky invites Songmakers\, Old Time Fiddlers & friends to come jam at Pitts Ranch Park\, 1400 Flynn Rd.\, Camarillo\, 93012. Led by Steve Linsky. Free admission.  Bathrooms and shade available. Come bring your instruments\, a chair and your voices and let’s make some music! 
URL:https://songmakers.org/event/pitts-ranch-song-circle-2/
LOCATION:Pitts Ranch Park\, 1400 Flynn Rd\, Camarillo\, CA\, 93012\, United States
CATEGORIES:Live Song Circle
END:VEVENT
BEGIN:VEVENT
DTSTART;TZID=America/Los_Angeles:20251221T130000
DTEND;TZID=America/Los_Angeles:20251221T153000
DTSTAMP:20260420T072358
CREATED:20250530T181407Z
LAST-MODIFIED:20251209T181208Z
UID:8307-1766322000-1766331000@songmakers.org
SUMMARY:Pitts Ranch Song Circle
DESCRIPTION:SMPOC Steve Linsky invites Songmakers\, Old Time Fiddlers & friends to come jam at Pitts Ranch Park\, 1400 Flynn Rd.\, Camarillo\, 93012. Led by Steve Linsky. Free admission.  Bathrooms and shade available. Come bring your instruments\, a chair and your voices and let’s make some music! 
URL:https://songmakers.org/event/pitts-ranch-song-circle/
LOCATION:Pitts Ranch Park\, 1400 Flynn Rd\, Camarillo\, CA\, 93012\, United States
CATEGORIES:Live Song Circle
END:VEVENT
BEGIN:VEVENT
DTSTART;TZID=America/Los_Angeles:20251228T130000
DTEND;TZID=America/Los_Angeles:20251228T153000
DTSTAMP:20260420T072358
CREATED:20250530T181151Z
LAST-MODIFIED:20251209T181241Z
UID:8303-1766926800-1766935800@songmakers.org
SUMMARY:Pitts Ranch Park Song Circle
DESCRIPTION:SMPOC Steve Linsky invites Songmakers\, Old Time Fiddlers & friends to come jam at Pitts Ranch Park\, 1400 Flynn Rd.\, Camarillo\, 93012. Led by Steve Linsky. Free admission.  Bathrooms and shade available. Come bring your instruments\, a chair and your voices and let’s make some music! 
URL:https://songmakers.org/event/pitts-ranch-park-song-circle/
LOCATION:Pitts Ranch Park\, 1400 Flynn Rd\, Camarillo\, CA\, 93012\, United States
CATEGORIES:Live Song Circle
END:VEVENT
END:VCALENDAR