BEGIN:VCALENDAR
VERSION:2.0
PRODID:-//Songmakers - ECPv6.15.20//NONSGML v1.0//EN
CALSCALE:GREGORIAN
METHOD:PUBLISH
X-ORIGINAL-URL:https://songmakers.org
X-WR-CALDESC:Events for Songmakers
REFRESH-INTERVAL;VALUE=DURATION:PT1H
X-Robots-Tag:noindex
X-PUBLISHED-TTL:PT1H
BEGIN:VTIMEZONE
TZID:America/Los_Angeles
BEGIN:DAYLIGHT
TZOFFSETFROM:-0800
TZOFFSETTO:-0700
TZNAME:PDT
DTSTART:20240310T100000
END:DAYLIGHT
BEGIN:STANDARD
TZOFFSETFROM:-0700
TZOFFSETTO:-0800
TZNAME:PST
DTSTART:20241103T090000
END:STANDARD
BEGIN:DAYLIGHT
TZOFFSETFROM:-0800
TZOFFSETTO:-0700
TZNAME:PDT
DTSTART:20250309T100000
END:DAYLIGHT
BEGIN:STANDARD
TZOFFSETFROM:-0700
TZOFFSETTO:-0800
TZNAME:PST
DTSTART:20251102T090000
END:STANDARD
BEGIN:DAYLIGHT
TZOFFSETFROM:-0800
TZOFFSETTO:-0700
TZNAME:PDT
DTSTART:20260308T100000
END:DAYLIGHT
BEGIN:STANDARD
TZOFFSETFROM:-0700
TZOFFSETTO:-0800
TZNAME:PST
DTSTART:20261101T090000
END:STANDARD
END:VTIMEZONE
BEGIN:VEVENT
DTSTART;TZID=America/Los_Angeles:20250621T170000
DTEND;TZID=America/Los_Angeles:20250621T210000
DTSTAMP:20260422T092047
CREATED:20250530T183628Z
LAST-MODIFIED:20250530T183628Z
UID:8329-1750525200-1750539600@songmakers.org
SUMMARY:Sympatico Music Gig Ventura Street Stage
DESCRIPTION:Scheduled: Jun 21\, 2025 at 5:00 PM to 9:00¯PM\, PDT \nLocation: Ventura Stage at Main Street and California Alex Reyes 420 Santa Clara Ventura Ca 93001 \nNote:  Bob is out of town on the first Saturday in June so we will not be performing as usual. 
URL:https://songmakers.org/event/sympatico-music-gig-ventura-street-stage/
LOCATION:420 Santa Clara Ventura CA 93001
CATEGORIES:Concert
END:VEVENT
END:VCALENDAR