BEGIN:VCALENDAR
VERSION:2.0
PRODID:-//Songmakers - ECPv6.15.20//NONSGML v1.0//EN
CALSCALE:GREGORIAN
METHOD:PUBLISH
X-WR-CALNAME:Songmakers
X-ORIGINAL-URL:https://songmakers.org
X-WR-CALDESC:Events for Songmakers
REFRESH-INTERVAL;VALUE=DURATION:PT1H
X-Robots-Tag:noindex
X-PUBLISHED-TTL:PT1H
BEGIN:VTIMEZONE
TZID:America/Los_Angeles
BEGIN:DAYLIGHT
TZOFFSETFROM:-0800
TZOFFSETTO:-0700
TZNAME:PDT
DTSTART:20250309T100000
END:DAYLIGHT
BEGIN:STANDARD
TZOFFSETFROM:-0700
TZOFFSETTO:-0800
TZNAME:PST
DTSTART:20251102T090000
END:STANDARD
BEGIN:DAYLIGHT
TZOFFSETFROM:-0800
TZOFFSETTO:-0700
TZNAME:PDT
DTSTART:20260308T100000
END:DAYLIGHT
BEGIN:STANDARD
TZOFFSETFROM:-0700
TZOFFSETTO:-0800
TZNAME:PST
DTSTART:20261101T090000
END:STANDARD
BEGIN:DAYLIGHT
TZOFFSETFROM:-0800
TZOFFSETTO:-0700
TZNAME:PDT
DTSTART:20270314T100000
END:DAYLIGHT
BEGIN:STANDARD
TZOFFSETFROM:-0700
TZOFFSETTO:-0800
TZNAME:PST
DTSTART:20271107T090000
END:STANDARD
END:VTIMEZONE
BEGIN:VEVENT
DTSTART;VALUE=DATE:20260416
DTEND;VALUE=DATE:20260420
DTSTAMP:20260421T030339
CREATED:20260328T051103Z
LAST-MODIFIED:20260402T002901Z
UID:8780-1776297600-1776643199@songmakers.org
SUMMARY:Gelencser's Music Campout in Landers
DESCRIPTION:Janice Gelencser says: \nWe have a rustic cabin on 5 acres of land in Landers near Yucca Valley\, with plenty of room for dry camping with RVs\, trailers\, and tents. For those who do not wish to camp\, there are rentals in the area available through AirBNB and VRBO. The weather in April averages a high of 80 degrees during the day and 60 degrees at night. \nFor more information and to RSVP\, please email Janice at singfolk@yahoo.com\, or call 909-374-2630
URL:https://songmakers.org/event/the-gelencsers-music-campout-in-landers/
CATEGORIES:Camping Song Circle
END:VEVENT
BEGIN:VEVENT
DTSTART;TZID=America/Los_Angeles:20260419T140000
DTEND;TZID=America/Los_Angeles:20260419T160000
DTSTAMP:20260421T030339
CREATED:20241230T190842Z
LAST-MODIFIED:20260328T044344Z
UID:7996-1776607200-1776614400@songmakers.org
SUMMARY:LIVE Culver City Song Circle
DESCRIPTION:The Co-Hosts\, Alan Stillson and Sheila Korsi\, invite you to attend the monthly IN-PERSON Culver City Song Circle on the 1st Sunday of each month. \nParticipation requires a reservation and up to 15 Songmakers and invited guests may attend (couples count as two attendees). Please contact Alan Stillson directly via astillson13@gmail.com or 818-884-4284 (land line) or 747-288-8345 (cell phone) to reserve a space and to request additional details. It is not listed on Meetup. \nThe address is 5100 Overland Ave\, Culver City\, CA 90230 and the Song Circle will take place in the community room of Rotary Plaza\, a large condominium complex\, or in the patio if the weather is nice. Please park on the street – the parking lot is for residents only. The building is located at the corner of Overland Avenue and Virginia Street in Culver City. Suggested donation is $5. Please call Sheila Korsi at 310-936-0090 only if you are extremely lost or cannot find parking.
URL:https://songmakers.org/event/live-culver-city-song-circle-9/
LOCATION:5100 Overland Ave Culver City CA 90230\, 5100 Overland Ave\, Culver City\, CA\, 90230\, United States
CATEGORIES:Live Song Circle
END:VEVENT
BEGIN:VEVENT
DTSTART;TZID=America/Los_Angeles:20260419T190000
DTEND;TZID=America/Los_Angeles:20260419T220000
DTSTAMP:20260421T030339
CREATED:20240329T214029Z
LAST-MODIFIED:20260328T043804Z
UID:7414-1776625200-1776636000@songmakers.org
SUMMARY:Agoura Hills Virtual Song Circle
DESCRIPTION:Steven Mark Berman\, President@songmakers.org\, is inviting you to a scheduled Zoom Song Circle\, every Sunday evening from 7pm-10pm. \nJoin via: https://zoom.us/j/637717652?pwd=ZW92MDYwN3NYUGtyWHJtQW1BRXlQQT09   Meeting ID: 637 717 652 Password: 008615
URL:https://songmakers.org/event/agoura-hills-virtual-song-circle-15/
CATEGORIES:Zoom Song Circle
END:VEVENT
END:VCALENDAR