BEGIN:VCALENDAR
VERSION:2.0
PRODID:-//Songmakers - ECPv6.15.20//NONSGML v1.0//EN
CALSCALE:GREGORIAN
METHOD:PUBLISH
X-WR-CALNAME:Songmakers
X-ORIGINAL-URL:https://songmakers.org
X-WR-CALDESC:Events for Songmakers
REFRESH-INTERVAL;VALUE=DURATION:PT1H
X-Robots-Tag:noindex
X-PUBLISHED-TTL:PT1H
BEGIN:VTIMEZONE
TZID:America/Los_Angeles
BEGIN:DAYLIGHT
TZOFFSETFROM:-0800
TZOFFSETTO:-0700
TZNAME:PDT
DTSTART:20250309T100000
END:DAYLIGHT
BEGIN:STANDARD
TZOFFSETFROM:-0700
TZOFFSETTO:-0800
TZNAME:PST
DTSTART:20251102T090000
END:STANDARD
BEGIN:DAYLIGHT
TZOFFSETFROM:-0800
TZOFFSETTO:-0700
TZNAME:PDT
DTSTART:20260308T100000
END:DAYLIGHT
BEGIN:STANDARD
TZOFFSETFROM:-0700
TZOFFSETTO:-0800
TZNAME:PST
DTSTART:20261101T090000
END:STANDARD
BEGIN:DAYLIGHT
TZOFFSETFROM:-0800
TZOFFSETTO:-0700
TZNAME:PDT
DTSTART:20270314T100000
END:DAYLIGHT
BEGIN:STANDARD
TZOFFSETFROM:-0700
TZOFFSETTO:-0800
TZNAME:PST
DTSTART:20271107T090000
END:STANDARD
END:VTIMEZONE
BEGIN:VEVENT
DTSTART;TZID=America/Los_Angeles:20260328T130000
DTEND;TZID=America/Los_Angeles:20260328T160000
DTSTAMP:20260420T043024
CREATED:20240329T215048Z
LAST-MODIFIED:20260302T190339Z
UID:7424-1774702800-1774713600@songmakers.org
SUMMARY:Stagecoach Inn Museum Song Circle
DESCRIPTION:Held the 4th of Saturday of each month from 1:00 pm – 4:00 pm. Led by David Steinhart. This venue is a beautiful historical site located in Newbury Park. Dressing in Western fashion is optional but a fun way to support the theme of the Stagecoach Inn Museum. Donations to support the museum’s mission are welcome. For parking\, please use the lot on Susan Drive. Do bring your own chair.
URL:https://songmakers.org/event/stagecoach-inn-museum-song-circle-4/
LOCATION:Stagecoach Inn
CATEGORIES:Live Song Circle
ATTACH;FMTTYPE=image/png:https://songmakers.org/wp-content/uploads/2023/12/Stagecoach-Song-Circle.png
END:VEVENT
BEGIN:VEVENT
DTSTART;TZID=America/Los_Angeles:20260328T173000
DTEND;TZID=America/Los_Angeles:20260328T210000
DTSTAMP:20260420T043024
CREATED:20240302T001819Z
LAST-MODIFIED:20260224T164746Z
UID:7197-1774719000-1774731600@songmakers.org
SUMMARY:Live Woodland Hills Potluck and Song Circle
DESCRIPTION:Alan Stillson astillson13@gmail.com is inviting you to attend this monthly IN-PERSON song circle\, held on the 4th Saturday of each month. \nThe address is 5515 Keokuk Ave. Woodland Hills\, CA 91367. It’s close to the Ventura Freeway and Winnetka Ave. The telephone number is 818/884-4284 (land line) or 747-288-8345 (cell phone). \nCo-leaders are Linnea Richards and Alan Stillson. \nAll musical instruments are welcome. It will be held in compliance with the rules adopted by the Songmakers board of directors for in-person gatherings. Attendance requires a reservation via Meet-up or direct contact with host. The maximum number of attendees is 15 (couples = two attendees). The gathering is indoors. There is a full-size keyboard in the room. Bring a Potluck item to share. No alcohol. The host will provide non-alcoholic beverages.
URL:https://songmakers.org/event/live-woodland-hills-potluck-and-song-circle/
LOCATION:Alan’s house\, 5515 Keokuk Ave\, Woodland Hills\, CA\, 91367\, United States
CATEGORIES:Live Song Circle
END:VEVENT
END:VCALENDAR