BEGIN:VCALENDAR
VERSION:2.0
PRODID:-//Songmakers - ECPv6.15.20//NONSGML v1.0//EN
CALSCALE:GREGORIAN
METHOD:PUBLISH
X-WR-CALNAME:Songmakers
X-ORIGINAL-URL:https://songmakers.org
X-WR-CALDESC:Events for Songmakers
REFRESH-INTERVAL;VALUE=DURATION:PT1H
X-Robots-Tag:noindex
X-PUBLISHED-TTL:PT1H
BEGIN:VTIMEZONE
TZID:America/Los_Angeles
BEGIN:DAYLIGHT
TZOFFSETFROM:-0800
TZOFFSETTO:-0700
TZNAME:PDT
DTSTART:20250309T100000
END:DAYLIGHT
BEGIN:STANDARD
TZOFFSETFROM:-0700
TZOFFSETTO:-0800
TZNAME:PST
DTSTART:20251102T090000
END:STANDARD
BEGIN:DAYLIGHT
TZOFFSETFROM:-0800
TZOFFSETTO:-0700
TZNAME:PDT
DTSTART:20260308T100000
END:DAYLIGHT
BEGIN:STANDARD
TZOFFSETFROM:-0700
TZOFFSETTO:-0800
TZNAME:PST
DTSTART:20261101T090000
END:STANDARD
BEGIN:DAYLIGHT
TZOFFSETFROM:-0800
TZOFFSETTO:-0700
TZNAME:PDT
DTSTART:20270314T100000
END:DAYLIGHT
BEGIN:STANDARD
TZOFFSETFROM:-0700
TZOFFSETTO:-0800
TZNAME:PST
DTSTART:20271107T090000
END:STANDARD
END:VTIMEZONE
BEGIN:VEVENT
DTSTART;TZID=America/Los_Angeles:20260324T160000
DTEND;TZID=America/Los_Angeles:20260324T180000
DTSTAMP:20260420T041350
CREATED:20260302T190732Z
LAST-MODIFIED:20260302T190732Z
UID:8758-1774368000-1774375200@songmakers.org
SUMMARY:Hueneme Bay Clubhouse Songcircle
DESCRIPTION:Join us for a lively afternoon of folk and acoustic music at our jam session hosted by Songmakers in Ventura County. This event is perfect for musicians\, singers\, and songwriters who enjoy collaborative and creative environments. Whether you’re a seasoned artist or a beginner looking to learn and connect with like-minded individuals\, this jam session welcomes all levels of experience. \n \nGather to share songs\, exchange songwriting tips\, and jam out together in a friendly and supportive space. Let’s come together and make some beautiful music while fostering a sense of community among fellow music enthusiasts. Don’t miss this opportunity to be part of an inspiring and engaging musical journey with Songmakers in Ventura County!\n\nThe event will be held at the Hueneme Bay Clubhouse\, 2600 Lido Blvd. Port Hueneme\, CA 93041\,  on the 3rd and 4th Tuesdays of the month from 4:00 until 6:00 PM.
URL:https://songmakers.org/event/hueneme-bay-clubhouse-songcircle-4/
LOCATION:Hueneme Bay Clubhouse\, 2600 Lido Blvd\, Port Hueneme\, CA\, 93041\, United States
CATEGORIES:Live Song Circle
END:VEVENT
END:VCALENDAR