BEGIN:VCALENDAR
VERSION:2.0
PRODID:-//Songmakers - ECPv6.15.20//NONSGML v1.0//EN
CALSCALE:GREGORIAN
METHOD:PUBLISH
X-WR-CALNAME:Songmakers
X-ORIGINAL-URL:https://songmakers.org
X-WR-CALDESC:Events for Songmakers
REFRESH-INTERVAL;VALUE=DURATION:PT1H
X-Robots-Tag:noindex
X-PUBLISHED-TTL:PT1H
BEGIN:VTIMEZONE
TZID:America/Los_Angeles
BEGIN:DAYLIGHT
TZOFFSETFROM:-0800
TZOFFSETTO:-0700
TZNAME:PDT
DTSTART:20250309T100000
END:DAYLIGHT
BEGIN:STANDARD
TZOFFSETFROM:-0700
TZOFFSETTO:-0800
TZNAME:PST
DTSTART:20251102T090000
END:STANDARD
BEGIN:DAYLIGHT
TZOFFSETFROM:-0800
TZOFFSETTO:-0700
TZNAME:PDT
DTSTART:20260308T100000
END:DAYLIGHT
BEGIN:STANDARD
TZOFFSETFROM:-0700
TZOFFSETTO:-0800
TZNAME:PST
DTSTART:20261101T090000
END:STANDARD
BEGIN:DAYLIGHT
TZOFFSETFROM:-0800
TZOFFSETTO:-0700
TZNAME:PDT
DTSTART:20270314T100000
END:DAYLIGHT
BEGIN:STANDARD
TZOFFSETFROM:-0700
TZOFFSETTO:-0800
TZNAME:PST
DTSTART:20271107T090000
END:STANDARD
END:VTIMEZONE
BEGIN:VEVENT
DTSTART;TZID=America/Los_Angeles:20260315T190000
DTEND;TZID=America/Los_Angeles:20260315T221500
DTSTAMP:20260420T041349
CREATED:20240129T015947Z
LAST-MODIFIED:20260302T191619Z
UID:7048-1773601200-1773612900@songmakers.org
SUMMARY:Agoura Hills Virtual Song Circle
DESCRIPTION:Steven Mark Berman\, President@songmakers.org\, is inviting you to a scheduled Zoom Song Circle\, every Sunday evening from 7pm-10pm. \nJoin via: https://zoom.us/j/637717652?pwd=ZW92MDYwN3NYUGtyWHJtQW1BRXlQQT09   Meeting ID: 637 717 652 Password: 008615
URL:https://songmakers.org/event/agoura-hills-virtual-song-circle-12/
CATEGORIES:Zoom Song Circle
END:VEVENT
END:VCALENDAR