BEGIN:VCALENDAR
VERSION:2.0
PRODID:-//Songmakers - ECPv6.15.20//NONSGML v1.0//EN
CALSCALE:GREGORIAN
METHOD:PUBLISH
X-ORIGINAL-URL:https://songmakers.org
X-WR-CALDESC:Events for Songmakers
REFRESH-INTERVAL;VALUE=DURATION:PT1H
X-Robots-Tag:noindex
X-PUBLISHED-TTL:PT1H
BEGIN:VTIMEZONE
TZID:America/Los_Angeles
BEGIN:DAYLIGHT
TZOFFSETFROM:-0800
TZOFFSETTO:-0700
TZNAME:PDT
DTSTART:20250309T100000
END:DAYLIGHT
BEGIN:STANDARD
TZOFFSETFROM:-0700
TZOFFSETTO:-0800
TZNAME:PST
DTSTART:20251102T090000
END:STANDARD
BEGIN:DAYLIGHT
TZOFFSETFROM:-0800
TZOFFSETTO:-0700
TZNAME:PDT
DTSTART:20260308T100000
END:DAYLIGHT
BEGIN:STANDARD
TZOFFSETFROM:-0700
TZOFFSETTO:-0800
TZNAME:PST
DTSTART:20261101T090000
END:STANDARD
BEGIN:DAYLIGHT
TZOFFSETFROM:-0800
TZOFFSETTO:-0700
TZNAME:PDT
DTSTART:20270314T100000
END:DAYLIGHT
BEGIN:STANDARD
TZOFFSETFROM:-0700
TZOFFSETTO:-0800
TZNAME:PST
DTSTART:20271107T090000
END:STANDARD
END:VTIMEZONE
BEGIN:VEVENT
DTSTART;TZID=America/Los_Angeles:20260308T130000
DTEND;TZID=America/Los_Angeles:20260308T163000
DTSTAMP:20260420T041544
CREATED:20250804T191144Z
LAST-MODIFIED:20260214T021554Z
UID:8477-1772974800-1772987400@songmakers.org
SUMMARY:Collage Song Circle - San Pedro
DESCRIPTION:Please join us for a song circle in San Pedro.  Our host is Collage: A Place for Art and Culture (phone 424-450-8239).   This non-profit hosts many and varied Live music\, entertainment\, art shows\, performance workshops and culinary programs. Check out their website—Our event is posted there!  https://www.collageartculture.org/ \nOur host\, Richard Foss\, met us at Topanga Banjo and Fiddle Contest and wanted to see if we could make music together. We hope to make this a semi-regular event! \nFor more information\, call Louise at 310-403-3351. Song circle will be led by Songmaker\, Chuck Behrman. For info on the day of the event\, call Chuck at 310-849-9403. \nThis is information from Collage’s amazing and diverse website showing their offerings: \nCOLLAGE is an arts venue in San Pedro that opened in July 2021. \nThe mission of COLLAGE is to serve both the local and broader community with programs that are adventurous yet accessible. This is done by taking an expansive view of art that can include the visual\, performative\, culinary\, and literary world\, and making culture inclusive to consider ethnicity\, affinity\, ability\, and emerging ways people are brought together. COLLAGE builds relationships with artistic and cultural communities and provides a space where they may come together to teach\, learn\, and entertain.
URL:https://songmakers.org/event/collage-song-circle-san-pedro/
LOCATION:Collage Arts and Culture Venue\, 731 South Pacific Avenue\, San Pedro\, CA\, 90731\, United States
CATEGORIES:Live Song Circle
ATTACH;FMTTYPE=image/jpeg:https://songmakers.org/wp-content/uploads/2025/08/Collage-Arts.jpg
END:VEVENT
END:VCALENDAR