BEGIN:VCALENDAR
VERSION:2.0
PRODID:-//Songmakers - ECPv6.15.20//NONSGML v1.0//EN
CALSCALE:GREGORIAN
METHOD:PUBLISH
X-ORIGINAL-URL:https://songmakers.org
X-WR-CALDESC:Events for Songmakers
REFRESH-INTERVAL;VALUE=DURATION:PT1H
X-Robots-Tag:noindex
X-PUBLISHED-TTL:PT1H
BEGIN:VTIMEZONE
TZID:America/Los_Angeles
BEGIN:DAYLIGHT
TZOFFSETFROM:-0800
TZOFFSETTO:-0700
TZNAME:PDT
DTSTART:20250309T100000
END:DAYLIGHT
BEGIN:STANDARD
TZOFFSETFROM:-0700
TZOFFSETTO:-0800
TZNAME:PST
DTSTART:20251102T090000
END:STANDARD
BEGIN:DAYLIGHT
TZOFFSETFROM:-0800
TZOFFSETTO:-0700
TZNAME:PDT
DTSTART:20260308T100000
END:DAYLIGHT
BEGIN:STANDARD
TZOFFSETFROM:-0700
TZOFFSETTO:-0800
TZNAME:PST
DTSTART:20261101T090000
END:STANDARD
BEGIN:DAYLIGHT
TZOFFSETFROM:-0800
TZOFFSETTO:-0700
TZNAME:PDT
DTSTART:20270314T100000
END:DAYLIGHT
BEGIN:STANDARD
TZOFFSETFROM:-0700
TZOFFSETTO:-0800
TZNAME:PST
DTSTART:20271107T090000
END:STANDARD
END:VTIMEZONE
BEGIN:VEVENT
DTSTART;TZID=America/Los_Angeles:20260301T140000
DTEND;TZID=America/Los_Angeles:20260301T160000
DTSTAMP:20260420T041722
CREATED:20250728T180141Z
LAST-MODIFIED:20260224T164445Z
UID:8384-1772373600-1772380800@songmakers.org
SUMMARY:LIVE Culver City Song Circle
DESCRIPTION:The Co-Hosts\, Alan Stillson and Sheila Korsi\, invite you to attend the monthly IN-PERSON Culver City Song Circle on the 1st Sunday of each month. \nParticipation requires a reservation and up to 15 Songmakers and invited guests may attend (couples count as two attendees). Please contact Alan Stillson directly via astillson13@gmail.com or 818-884-4284 (land line) or 747-288-8345 (cell phone) to reserve a space and to request additional details. It is not listed on Meetup. \nThe address is 5100 Overland Ave\, Culver City\, CA 90230 and the Song Circle will take place in the community room of Rotary Plaza\, a large condominium complex\, or in the patio if the weather is nice. Please park on the street – the parking lot is for residents only. The building is located at the corner of Overland Avenue and Virginia Street in Culver City. Suggested donation is $5. Please call Sheila Korsi at 310-936-0090 only if you are extremely lost or cannot find parking.
URL:https://songmakers.org/event/live-culver-city-song-circle-11/
LOCATION:5100 Overland Ave Culver City CA 90230\, 5100 Overland Ave\, Culver City\, CA\, 90230\, United States
CATEGORIES:Live Song Circle
END:VEVENT
END:VCALENDAR